BEGIN:VCALENDAR
VERSION:2.0
PRODID:-//Schützengilde Diefflen - ECPv4.9.0.3//NONSGML v1.0//EN
CALSCALE:GREGORIAN
METHOD:PUBLISH
X-WR-CALNAME:Schützengilde Diefflen
X-ORIGINAL-URL:https://xn--schtzengilde-diefflen-bic.de
X-WR-CALDESC:Veranstaltungen im Schützengilde Diefflen
BEGIN:VEVENT
DTSTART;TZID=Europe/Berlin:20170525T080000
DTEND;TZID=Europe/Berlin:20170525T170000
DTSTAMP:20260420T142127
CREATED:20170317T214924Z
LAST-MODIFIED:20170317T214924Z
UID:1827-1495699200-1495731600@xn--schtzengilde-diefflen-bic.de
SUMMARY:Trab (LM)
DESCRIPTION:
URL:https://xn--schtzengilde-diefflen-bic.de/termine/trab-lm/
CATEGORIES:Landesmeisterschaften
END:VEVENT
END:VCALENDAR