BEGIN:VCALENDAR
VERSION:2.0
PRODID:-//Schützengilde Diefflen - ECPv4.9.0.3//NONSGML v1.0//EN
CALSCALE:GREGORIAN
METHOD:PUBLISH
X-WR-CALNAME:Schützengilde Diefflen
X-ORIGINAL-URL:https://xn--schtzengilde-diefflen-bic.de
X-WR-CALDESC:Veranstaltungen im Schützengilde Diefflen
BEGIN:VEVENT
DTSTART;TZID=Europe/Berlin:20170319T080000
DTEND;TZID=Europe/Berlin:20170319T170000
DTSTAMP:20260419T164530
CREATED:20170318T100120Z
LAST-MODIFIED:20170318T100120Z
UID:1735-1489910400-1489942800@xn--schtzengilde-diefflen-bic.de
SUMMARY:Standardpistole und Spopi ZF (KM)
DESCRIPTION:
URL:https://xn--schtzengilde-diefflen-bic.de/termine/standardpistole-und-spopi-zf-km/
CATEGORIES:Kreismeisterschaften
END:VEVENT
END:VCALENDAR