BEGIN:VCALENDAR
VERSION:2.0
PRODID:-//Schützengilde Diefflen - ECPv4.9.0.3//NONSGML v1.0//EN
CALSCALE:GREGORIAN
METHOD:PUBLISH
X-WR-CALNAME:Schützengilde Diefflen
X-ORIGINAL-URL:https://xn--schtzengilde-diefflen-bic.de
X-WR-CALDESC:Veranstaltungen im Schützengilde Diefflen
BEGIN:VEVENT
DTSTART;TZID=Europe/Berlin:20170430T080000
DTEND;TZID=Europe/Berlin:20170430T170000
DTSTAMP:20260421T113034
CREATED:20170317T213235Z
LAST-MODIFIED:20170317T213235Z
UID:1778-1493539200-1493571600@xn--schtzengilde-diefflen-bic.de
SUMMARY:Standardpistole (LM)
DESCRIPTION:
URL:https://xn--schtzengilde-diefflen-bic.de/termine/standardpistole-lm/
CATEGORIES:Landesmeisterschaften
END:VEVENT
END:VCALENDAR