BEGIN:VCALENDAR
VERSION:2.0
PRODID:-//Schützengilde Diefflen - ECPv4.9.0.3//NONSGML v1.0//EN
CALSCALE:GREGORIAN
METHOD:PUBLISH
X-WR-CALNAME:Schützengilde Diefflen
X-ORIGINAL-URL:https://xn--schtzengilde-diefflen-bic.de
X-WR-CALDESC:Veranstaltungen im Schützengilde Diefflen
BEGIN:VEVENT
DTSTART;TZID=Europe/Berlin:20170517T080000
DTEND;TZID=Europe/Berlin:20170524T170000
DTSTAMP:20260420T022346
CREATED:20170317T214413Z
LAST-MODIFIED:20170317T214413Z
UID:1807-1495008000-1495645200@xn--schtzengilde-diefflen-bic.de
SUMMARY:Sportschießen
DESCRIPTION:
URL:https://xn--schtzengilde-diefflen-bic.de/termine/sportschiessen/
CATEGORIES:Weltmeisterschaften
END:VEVENT
END:VCALENDAR