BEGIN:VCALENDAR
VERSION:2.0
PRODID:-//Schützengilde Diefflen - ECPv4.9.0.3//NONSGML v1.0//EN
CALSCALE:GREGORIAN
METHOD:PUBLISH
X-WR-CALNAME:Schützengilde Diefflen
X-ORIGINAL-URL:https://xn--schtzengilde-diefflen-bic.de
X-WR-CALDESC:Veranstaltungen im Schützengilde Diefflen
BEGIN:VEVENT
DTSTART;TZID=Europe/Berlin:20170611T080000
DTEND;TZID=Europe/Berlin:20170611T170000
DTSTAMP:20260421T104047
CREATED:20170317T215507Z
LAST-MODIFIED:20170317T215507Z
UID:1844-1497168000-1497200400@xn--schtzengilde-diefflen-bic.de
SUMMARY:Sportrevolver 357 Mag und 44 Mag (LM)
DESCRIPTION:
URL:https://xn--schtzengilde-diefflen-bic.de/termine/sportrevolver-357-mag-und-44-mag-lm/
CATEGORIES:Landesmeisterschaften
END:VEVENT
END:VCALENDAR