BEGIN:VCALENDAR
VERSION:2.0
PRODID:-//Schützengilde Diefflen - ECPv4.9.0.3//NONSGML v1.0//EN
CALSCALE:GREGORIAN
METHOD:PUBLISH
X-WR-CALNAME:Schützengilde Diefflen
X-ORIGINAL-URL:https://xn--schtzengilde-diefflen-bic.de
X-WR-CALDESC:Veranstaltungen im Schützengilde Diefflen
BEGIN:VEVENT
DTSTART;TZID=Europe/Berlin:20170429T080000
DTEND;TZID=Europe/Berlin:20170429T170000
DTSTAMP:20260419T175759
CREATED:20170317T213004Z
LAST-MODIFIED:20170317T213004Z
UID:1770-1493452800-1493485200@xn--schtzengilde-diefflen-bic.de
SUMMARY:Sportpistole ZF (LM)
DESCRIPTION:
URL:https://xn--schtzengilde-diefflen-bic.de/termine/sportpistole-zf-lm/
CATEGORIES:Landesmeisterschaften
END:VEVENT
END:VCALENDAR