BEGIN:VCALENDAR
VERSION:2.0
PRODID:-//Schützengilde Diefflen - ECPv4.9.0.3//NONSGML v1.0//EN
CALSCALE:GREGORIAN
METHOD:PUBLISH
X-WR-CALNAME:Schützengilde Diefflen
X-ORIGINAL-URL:https://xn--schtzengilde-diefflen-bic.de
X-WR-CALDESC:Veranstaltungen im Schützengilde Diefflen
BEGIN:VEVENT
DTSTART;TZID=Europe/Berlin:20170610T080000
DTEND;TZID=Europe/Berlin:20170610T170000
DTSTAMP:20260422T105022
CREATED:20170317T215245Z
LAST-MODIFIED:20170317T215245Z
UID:1835-1497081600-1497114000@xn--schtzengilde-diefflen-bic.de
SUMMARY:Sportpistole 9 mm und 45 ACP (LM)
DESCRIPTION:
URL:https://xn--schtzengilde-diefflen-bic.de/termine/sportpistole-9-mm-und-45-acp-lm/
CATEGORIES:Landesmeisterschaften
END:VEVENT
END:VCALENDAR