BEGIN:VCALENDAR
VERSION:2.0
PRODID:-//Schützengilde Diefflen - ECPv4.9.0.3//NONSGML v1.0//EN
CALSCALE:GREGORIAN
METHOD:PUBLISH
X-WR-CALNAME:Schützengilde Diefflen
X-ORIGINAL-URL:https://xn--schtzengilde-diefflen-bic.de
X-WR-CALDESC:Veranstaltungen im Schützengilde Diefflen
BEGIN:VEVENT
DTSTART;TZID=Europe/Berlin:20170317T080000
DTEND;TZID=Europe/Berlin:20170317T170000
DTSTAMP:20260419T142246
CREATED:20170318T211700Z
LAST-MODIFIED:20170318T100201Z
UID:1732-1489737600-1489770000@xn--schtzengilde-diefflen-bic.de
SUMMARY:Sportler mit Behinderung LG und LP
DESCRIPTION:
URL:https://xn--schtzengilde-diefflen-bic.de/termine/sportler-mit-behinderung-lg-und-lp/
LOCATION:Rehlingen-Siersburg
END:VEVENT
END:VCALENDAR