BEGIN:VCALENDAR
VERSION:2.0
PRODID:-//Schützengilde Diefflen - ECPv4.9.0.3//NONSGML v1.0//EN
CALSCALE:GREGORIAN
METHOD:PUBLISH
X-WR-CALNAME:Schützengilde Diefflen
X-ORIGINAL-URL:https://xn--schtzengilde-diefflen-bic.de
X-WR-CALDESC:Veranstaltungen im Schützengilde Diefflen
BEGIN:VEVENT
DTSTART;TZID=Europe/Berlin:20170422T080000
DTEND;TZID=Europe/Berlin:20170423T170000
DTSTAMP:20260419T160523
CREATED:20170317T212810Z
LAST-MODIFIED:20170317T212810Z
UID:1765-1492848000-1492966800@xn--schtzengilde-diefflen-bic.de
SUMMARY:SpoPi (LM)
DESCRIPTION:
URL:https://xn--schtzengilde-diefflen-bic.de/termine/spopi-lm/
CATEGORIES:Landesmeisterschaften
END:VEVENT
END:VCALENDAR