BEGIN:VCALENDAR
VERSION:2.0
PRODID:-//Schützengilde Diefflen - ECPv4.9.0.3//NONSGML v1.0//EN
CALSCALE:GREGORIAN
METHOD:PUBLISH
X-WR-CALNAME:Schützengilde Diefflen
X-ORIGINAL-URL:https://xn--schtzengilde-diefflen-bic.de
X-WR-CALDESC:Veranstaltungen im Schützengilde Diefflen
BEGIN:VEVENT
DTSTART;TZID=Europe/Berlin:20170726T080000
DTEND;TZID=Europe/Berlin:20170730T170000
DTSTAMP:20260420T021826
CREATED:20170317T221231Z
LAST-MODIFIED:20170317T221231Z
UID:1890-1501056000-1501434000@xn--schtzengilde-diefflen-bic.de
SUMMARY:Sommerbiathlon KK/LG (DM)
DESCRIPTION:
URL:https://xn--schtzengilde-diefflen-bic.de/termine/sommerbiathlon-kklg-dm/
CATEGORIES:Deutsche Meisterschaften
END:VEVENT
END:VCALENDAR