BEGIN:VCALENDAR
VERSION:2.0
PRODID:-//Schützengilde Diefflen - ECPv4.9.0.3//NONSGML v1.0//EN
CALSCALE:GREGORIAN
METHOD:PUBLISH
X-WR-CALNAME:Schützengilde Diefflen
X-ORIGINAL-URL:https://xn--schtzengilde-diefflen-bic.de
X-WR-CALDESC:Veranstaltungen im Schützengilde Diefflen
BEGIN:VEVENT
DTSTART;TZID=Europe/Berlin:20170630T080000
DTEND;TZID=Europe/Berlin:20170630T170000
DTSTAMP:20260420T093436
CREATED:20170317T220856Z
LAST-MODIFIED:20170317T220856Z
UID:1879-1498809600-1498842000@xn--schtzengilde-diefflen-bic.de
SUMMARY:Skeet (LM)
DESCRIPTION:
URL:https://xn--schtzengilde-diefflen-bic.de/termine/skeet-lm/
CATEGORIES:Landesmeisterschaften
END:VEVENT
END:VCALENDAR