BEGIN:VCALENDAR
VERSION:2.0
PRODID:-//Schützengilde Diefflen - ECPv4.9.0.3//NONSGML v1.0//EN
CALSCALE:GREGORIAN
METHOD:PUBLISH
X-WR-CALNAME:Schützengilde Diefflen
X-ORIGINAL-URL:https://xn--schtzengilde-diefflen-bic.de
X-WR-CALDESC:Veranstaltungen im Schützengilde Diefflen
BEGIN:VEVENT
DTSTART;TZID=Europe/Berlin:20170417T100000
DTEND;TZID=Europe/Berlin:20170417T180000
DTSTAMP:20260419T124019
CREATED:20170330T160233Z
LAST-MODIFIED:20170330T160233Z
UID:2007-1492423200-1492452000@xn--schtzengilde-diefflen-bic.de
SUMMARY:Ostereierschießen 2017
DESCRIPTION:
URL:https://xn--schtzengilde-diefflen-bic.de/termine/ostereierschiessen-2017/
LOCATION:Schützenverein Diefflen\, Richard-Wagner-Straße 20 \, Diefflen\, 66763\, Deutschland
ATTACH;FMTTYPE=image/jpeg:https://xn--schtzengilde-diefflen-bic.de/wp-content/uploads/2017/03/Oster_2017.jpg
END:VEVENT
END:VCALENDAR