BEGIN:VCALENDAR
VERSION:2.0
PRODID:-//Schützengilde Diefflen - ECPv4.9.0.3//NONSGML v1.0//EN
CALSCALE:GREGORIAN
METHOD:PUBLISH
X-WR-CALNAME:Schützengilde Diefflen
X-ORIGINAL-URL:https://xn--schtzengilde-diefflen-bic.de
X-WR-CALDESC:Veranstaltungen im Schützengilde Diefflen
BEGIN:VEVENT
DTSTART;TZID=Europe/Berlin:20170401T080000
DTEND;TZID=Europe/Berlin:20170401T170000
DTSTAMP:20260419T174000
CREATED:20170317T212413Z
LAST-MODIFIED:20170317T212413Z
UID:1752-1491033600-1491066000@xn--schtzengilde-diefflen-bic.de
SUMMARY:Ordonnanzgewehr (KM)
DESCRIPTION:
URL:https://xn--schtzengilde-diefflen-bic.de/termine/ordonnanzgewehr-km/
CATEGORIES:Kreismeisterschaften
END:VEVENT
END:VCALENDAR