BEGIN:VCALENDAR
VERSION:2.0
PRODID:-//Schützengilde Diefflen - ECPv4.9.0.3//NONSGML v1.0//EN
CALSCALE:GREGORIAN
METHOD:PUBLISH
X-WR-CALNAME:Schützengilde Diefflen
X-ORIGINAL-URL:https://xn--schtzengilde-diefflen-bic.de
X-WR-CALDESC:Veranstaltungen im Schützengilde Diefflen
BEGIN:VEVENT
DTSTART;TZID=Europe/Berlin:20170929T080000
DTEND;TZID=Europe/Berlin:20170930T170000
DTSTAMP:20260421T083925
CREATED:20170317T222142Z
LAST-MODIFIED:20170317T222142Z
UID:1912-1506672000-1506790800@xn--schtzengilde-diefflen-bic.de
SUMMARY:Ordonnanzgewehr (DM)
DESCRIPTION:
URL:https://xn--schtzengilde-diefflen-bic.de/termine/ordonnanzgewehr-dm/
CATEGORIES:Deutsche Meisterschaften
END:VEVENT
END:VCALENDAR