BEGIN:VCALENDAR
VERSION:2.0
PRODID:-//Schützengilde Diefflen - ECPv4.9.0.3//NONSGML v1.0//EN
CALSCALE:GREGORIAN
METHOD:PUBLISH
X-WR-CALNAME:Schützengilde Diefflen
X-ORIGINAL-URL:https://xn--schtzengilde-diefflen-bic.de
X-WR-CALDESC:Veranstaltungen im Schützengilde Diefflen
BEGIN:VEVENT
DTSTART;VALUE=DATE:20170226
DTEND;VALUE=DATE:20170227
DTSTAMP:20260419T161130
CREATED:20161228T003348Z
LAST-MODIFIED:20161228T003348Z
UID:1465-1488067200-1488153599@xn--schtzengilde-diefflen-bic.de
SUMMARY:Olym. Schnellfeuerpistole 25m (KM)
DESCRIPTION:
URL:https://xn--schtzengilde-diefflen-bic.de/termine/olym-schnellfeuerpistole-25m-km/
LOCATION:Schützenverein „Tell“ Schwalbach\, Am Wilhelmschacht 10\, Schwalbach\, Saarland\, 66773\, Deutschland
CATEGORIES:Kreismeisterschaften
ORGANIZER;CN="Rainer%20Spies":MAILTO:vorsitzender@sv-tell-schwalbach.de
END:VEVENT
END:VCALENDAR