BEGIN:VCALENDAR
VERSION:2.0
PRODID:-//Schützengilde Diefflen - ECPv4.9.0.3//NONSGML v1.0//EN
CALSCALE:GREGORIAN
METHOD:PUBLISH
X-WR-CALNAME:Schützengilde Diefflen
X-ORIGINAL-URL:https://xn--schtzengilde-diefflen-bic.de
X-WR-CALDESC:Veranstaltungen im Schützengilde Diefflen
BEGIN:VEVENT
DTSTART;TZID=Europe/Berlin:20170520T080000
DTEND;TZID=Europe/Berlin:20170520T170000
DTSTAMP:20260420T074512
CREATED:20170317T214519Z
LAST-MODIFIED:20170317T214519Z
UID:1813-1495267200-1495299600@xn--schtzengilde-diefflen-bic.de
SUMMARY:Luftpistole Auflage
DESCRIPTION:
URL:https://xn--schtzengilde-diefflen-bic.de/termine/luftpistole-auflage/
CATEGORIES:Landesmeisterschaften
END:VEVENT
END:VCALENDAR