BEGIN:VCALENDAR
VERSION:2.0
PRODID:-//Schützengilde Diefflen - ECPv4.9.0.3//NONSGML v1.0//EN
CALSCALE:GREGORIAN
METHOD:PUBLISH
X-WR-CALNAME:Schützengilde Diefflen
X-ORIGINAL-URL:https://xn--schtzengilde-diefflen-bic.de
X-WR-CALDESC:Veranstaltungen im Schützengilde Diefflen
BEGIN:VEVENT
DTSTART;TZID=Europe/Berlin:20170318T080000
DTEND;TZID=Europe/Berlin:20170319T170000
DTSTAMP:20260419T161654
CREATED:20170317T211917Z
LAST-MODIFIED:20170317T211917Z
UID:1738-1489824000-1489942800@xn--schtzengilde-diefflen-bic.de
SUMMARY:Luftgewehr (LM)
DESCRIPTION:
URL:https://xn--schtzengilde-diefflen-bic.de/termine/luftgewehr-lm/
CATEGORIES:Landesmeisterschaften
END:VEVENT
END:VCALENDAR