BEGIN:VCALENDAR
VERSION:2.0
PRODID:-//Schützengilde Diefflen - ECPv4.9.0.3//NONSGML v1.0//EN
CALSCALE:GREGORIAN
METHOD:PUBLISH
X-WR-CALNAME:Schützengilde Diefflen
X-ORIGINAL-URL:https://xn--schtzengilde-diefflen-bic.de
X-WR-CALDESC:Veranstaltungen im Schützengilde Diefflen
BEGIN:VEVENT
DTSTART;VALUE=DATE:20171113
DTEND;VALUE=DATE:20171116
DTSTAMP:20260419T125531
CREATED:20161228T000954Z
LAST-MODIFIED:20161228T001056Z
UID:1456-1510531200-1510790399@xn--schtzengilde-diefflen-bic.de
SUMMARY:Luftgewehr Auflage (DM)
DESCRIPTION:Deutsche Meisterschaft \n
URL:https://xn--schtzengilde-diefflen-bic.de/termine/luftgewehr-auflage-dm/
END:VEVENT
END:VCALENDAR