BEGIN:VCALENDAR
VERSION:2.0
PRODID:-//Schützengilde Diefflen - ECPv4.9.0.3//NONSGML v1.0//EN
CALSCALE:GREGORIAN
METHOD:PUBLISH
X-WR-CALNAME:Schützengilde Diefflen
X-ORIGINAL-URL:https://xn--schtzengilde-diefflen-bic.de
X-WR-CALDESC:Veranstaltungen im Schützengilde Diefflen
BEGIN:VEVENT
DTSTART;TZID=Europe/Berlin:20170430T080000
DTEND;TZID=Europe/Berlin:20170430T170000
DTSTAMP:20260423T103330
CREATED:20170317T213338Z
LAST-MODIFIED:20170317T213338Z
UID:1781-1493539200-1493571600@xn--schtzengilde-diefflen-bic.de
SUMMARY:LG-LP Schüler B+C (KBS)
DESCRIPTION:
URL:https://xn--schtzengilde-diefflen-bic.de/termine/lg-lp-schueler-bc-kbs/
LOCATION:Schützenverein „Tell“ Schwalbach\, Am Wilhelmschacht 10\, Schwalbach\, Saarland\, 66773\, Deutschland
CATEGORIES:KBS
END:VEVENT
END:VCALENDAR