BEGIN:VCALENDAR
VERSION:2.0
PRODID:-//Schützengilde Diefflen - ECPv4.9.0.3//NONSGML v1.0//EN
CALSCALE:GREGORIAN
METHOD:PUBLISH
X-WR-CALNAME:Schützengilde Diefflen
X-ORIGINAL-URL:https://xn--schtzengilde-diefflen-bic.de
X-WR-CALDESC:Veranstaltungen im Schützengilde Diefflen
BEGIN:VEVENT
DTSTART;TZID=Europe/Berlin:20170408T080000
DTEND;TZID=Europe/Berlin:20170408T170000
DTSTAMP:20260419T160657
CREATED:20170317T212531Z
LAST-MODIFIED:20170317T212531Z
UID:1758-1491638400-1491670800@xn--schtzengilde-diefflen-bic.de
SUMMARY:Landesdelegiertentag SVS
DESCRIPTION:
URL:https://xn--schtzengilde-diefflen-bic.de/termine/landesdelegiertentag-svs/
END:VEVENT
END:VCALENDAR