BEGIN:VCALENDAR
VERSION:2.0
PRODID:-//Schützengilde Diefflen - ECPv4.9.0.3//NONSGML v1.0//EN
CALSCALE:GREGORIAN
METHOD:PUBLISH
X-WR-CALNAME:Schützengilde Diefflen
X-ORIGINAL-URL:https://xn--schtzengilde-diefflen-bic.de
X-WR-CALDESC:Veranstaltungen im Schützengilde Diefflen
BEGIN:VEVENT
DTSTART;TZID=Europe/Berlin:20170909T080000
DTEND;TZID=Europe/Berlin:20170909T170000
DTSTAMP:20260419T174650
CREATED:20170317T221743Z
LAST-MODIFIED:20170317T221743Z
UID:1906-1504944000-1504976400@xn--schtzengilde-diefflen-bic.de
SUMMARY:Landesbestenschießen Dienstgewehr (LM)
DESCRIPTION:
URL:https://xn--schtzengilde-diefflen-bic.de/termine/landesbestenschiessen-dienstgewehr-lm/
CATEGORIES:Landesmeisterschaften
END:VEVENT
END:VCALENDAR