BEGIN:VCALENDAR
VERSION:2.0
PRODID:-//Schützengilde Diefflen - ECPv4.9.0.3//NONSGML v1.0//EN
CALSCALE:GREGORIAN
METHOD:PUBLISH
X-WR-CALNAME:Schützengilde Diefflen
X-ORIGINAL-URL:https://xn--schtzengilde-diefflen-bic.de
X-WR-CALDESC:Veranstaltungen im Schützengilde Diefflen
BEGIN:VEVENT
DTSTART;TZID=Europe/Berlin:20170620T080000
DTEND;TZID=Europe/Berlin:20170623T170000
DTSTAMP:20260420T164610
CREATED:20170317T220455Z
LAST-MODIFIED:20170317T220528Z
UID:1870-1497945600-1498237200@xn--schtzengilde-diefflen-bic.de
SUMMARY:Kreiskönigsschießen
DESCRIPTION:
URL:https://xn--schtzengilde-diefflen-bic.de/termine/kreiskoenigsschiessen/
END:VEVENT
END:VCALENDAR