BEGIN:VCALENDAR
VERSION:2.0
PRODID:-//Schützengilde Diefflen - ECPv4.9.0.3//NONSGML v1.0//EN
CALSCALE:GREGORIAN
METHOD:PUBLISH
X-WR-CALNAME:Schützengilde Diefflen
X-ORIGINAL-URL:https://xn--schtzengilde-diefflen-bic.de
X-WR-CALDESC:Veranstaltungen im Schützengilde Diefflen
BEGIN:VEVENT
DTSTART;TZID=Europe/Berlin:20171005T080000
DTEND;TZID=Europe/Berlin:20171008T170000
DTSTAMP:20260419T164149
CREATED:20170317T222245Z
LAST-MODIFIED:20170317T222245Z
UID:1915-1507190400-1507482000@xn--schtzengilde-diefflen-bic.de
SUMMARY:KK Auflage / Zielfernrohr / Luftpistole (DM)
DESCRIPTION:
URL:https://xn--schtzengilde-diefflen-bic.de/termine/kk-auflage-zielfernrohr-luftpistole-dm/
CATEGORIES:Deutsche Meisterschaften
END:VEVENT
END:VCALENDAR