BEGIN:VCALENDAR
VERSION:2.0
PRODID:-//Schützengilde Diefflen - ECPv4.9.0.3//NONSGML v1.0//EN
CALSCALE:GREGORIAN
METHOD:PUBLISH
X-WR-CALNAME:Schützengilde Diefflen
X-ORIGINAL-URL:https://xn--schtzengilde-diefflen-bic.de
X-WR-CALDESC:Veranstaltungen im Schützengilde Diefflen
BEGIN:VEVENT
DTSTART;TZID=Europe/Berlin:20170422T080000
DTEND;TZID=Europe/Berlin:20170422T170000
DTSTAMP:20260419T142415
CREATED:20170317T212620Z
LAST-MODIFIED:20170317T212620Z
UID:1761-1492848000-1492880400@xn--schtzengilde-diefflen-bic.de
SUMMARY:KK 60 liegend (KM)
DESCRIPTION:
URL:https://xn--schtzengilde-diefflen-bic.de/termine/kk-60-liegend-km/
LOCATION:Schützenverein „Tell“ Schwalbach\, Am Wilhelmschacht 10\, Schwalbach\, Saarland\, 66773\, Deutschland
CATEGORIES:Kreismeisterschaften
END:VEVENT
END:VCALENDAR