BEGIN:VCALENDAR
VERSION:2.0
PRODID:-//Schützengilde Diefflen - ECPv4.9.0.3//NONSGML v1.0//EN
CALSCALE:GREGORIAN
METHOD:PUBLISH
X-WR-CALNAME:Schützengilde Diefflen
X-ORIGINAL-URL:https://xn--schtzengilde-diefflen-bic.de
X-WR-CALDESC:Veranstaltungen im Schützengilde Diefflen
BEGIN:VEVENT
DTSTART;TZID=Europe/Berlin:20170430T080000
DTEND;TZID=Europe/Berlin:20170430T170000
DTSTAMP:20260419T211352
CREATED:20170317T213640Z
LAST-MODIFIED:20170317T213640Z
UID:1783-1493539200-1493571600@xn--schtzengilde-diefflen-bic.de
SUMMARY:KK 3x20 u. KK 50m ZF (KM)
DESCRIPTION:
URL:https://xn--schtzengilde-diefflen-bic.de/termine/kk-3x20-u-kk-50m-zf-km/
LOCATION:Schützenverein „Tell“ Schwalbach\, Am Wilhelmschacht 10\, Schwalbach\, Saarland\, 66773\, Deutschland
CATEGORIES:Kreismeisterschaften
END:VEVENT
END:VCALENDAR