BEGIN:VCALENDAR
VERSION:2.0
PRODID:-//Schützengilde Diefflen - ECPv4.9.0.3//NONSGML v1.0//EN
CALSCALE:GREGORIAN
METHOD:PUBLISH
X-WR-CALNAME:Schützengilde Diefflen
X-ORIGINAL-URL:https://xn--schtzengilde-diefflen-bic.de
X-WR-CALDESC:Veranstaltungen im Schützengilde Diefflen
BEGIN:VEVENT
DTSTART;TZID=Europe/Berlin:20170402T080000
DTEND;TZID=Europe/Berlin:20170402T170000
DTSTAMP:20260419T161307
CREATED:20170317T212452Z
LAST-MODIFIED:20170317T212452Z
UID:1755-1491120000-1491152400@xn--schtzengilde-diefflen-bic.de
SUMMARY:KK 100m Auflage und KK 100m ZF Auflage (KM)
DESCRIPTION:
URL:https://xn--schtzengilde-diefflen-bic.de/termine/kk-100m-auflage-und-kk-100m-zf-auflage-km/
CATEGORIES:Kreismeisterschaften
END:VEVENT
END:VCALENDAR