BEGIN:VCALENDAR
VERSION:2.0
PRODID:-//Schützengilde Diefflen - ECPv4.9.0.3//NONSGML v1.0//EN
CALSCALE:GREGORIAN
METHOD:PUBLISH
X-WR-CALNAME:Schützengilde Diefflen
X-ORIGINAL-URL:https://xn--schtzengilde-diefflen-bic.de
X-WR-CALDESC:Veranstaltungen im Schützengilde Diefflen
BEGIN:VEVENT
DTSTART;TZID=Europe/Berlin:20170317T080000
DTEND;TZID=Europe/Berlin:20170317T170000
DTSTAMP:20260419T174304
CREATED:20170317T214013Z
LAST-MODIFIED:20170317T214013Z
UID:1794-1489737600-1489770000@xn--schtzengilde-diefflen-bic.de
SUMMARY:Jugendverbandsrunde Vorkampf
DESCRIPTION:
URL:https://xn--schtzengilde-diefflen-bic.de/termine/jugendverbandsrunde-vorkampf/
LOCATION:Schützenverein „Tell“ Schwalbach\, Am Wilhelmschacht 10\, Schwalbach\, Saarland\, 66773\, Deutschland
END:VEVENT
END:VCALENDAR