BEGIN:VCALENDAR
VERSION:2.0
PRODID:-//Schützengilde Diefflen - ECPv4.9.0.3//NONSGML v1.0//EN
CALSCALE:GREGORIAN
METHOD:PUBLISH
X-WR-CALNAME:Schützengilde Diefflen
X-ORIGINAL-URL:https://xn--schtzengilde-diefflen-bic.de
X-WR-CALDESC:Veranstaltungen im Schützengilde Diefflen
BEGIN:VEVENT
DTSTART;TZID=Europe/Berlin:20170526T080000
DTEND;TZID=Europe/Berlin:20170528T170000
DTSTAMP:20260420T144353
CREATED:20170317T214827Z
LAST-MODIFIED:20170317T214827Z
UID:1824-1495785600-1495990800@xn--schtzengilde-diefflen-bic.de
SUMMARY:Jugendverbandsrunde Rückkampf
DESCRIPTION:
URL:https://xn--schtzengilde-diefflen-bic.de/termine/jugendverbandsrunde-rueckkampf/
END:VEVENT
END:VCALENDAR