BEGIN:VCALENDAR
VERSION:2.0
PRODID:-//Schützengilde Diefflen - ECPv4.9.0.3//NONSGML v1.0//EN
CALSCALE:GREGORIAN
METHOD:PUBLISH
X-WR-CALNAME:Schützengilde Diefflen
X-ORIGINAL-URL:https://xn--schtzengilde-diefflen-bic.de
X-WR-CALDESC:Veranstaltungen im Schützengilde Diefflen
BEGIN:VEVENT
DTSTART;TZID=Europe/Berlin:20170824T080000
DTEND;TZID=Europe/Berlin:20170904T170000
DTSTAMP:20260419T210035
CREATED:20170317T221602Z
LAST-MODIFIED:20170317T221602Z
UID:1900-1503561600-1504544400@xn--schtzengilde-diefflen-bic.de
SUMMARY:Gewehr-Pistole-Wurfscheibe-Pistole/Revolver (DM)
DESCRIPTION:
URL:https://xn--schtzengilde-diefflen-bic.de/termine/gewehr-pistole-wurfscheibe-pistolerevolver-dm/
CATEGORIES:Deutsche Meisterschaften
END:VEVENT
END:VCALENDAR