BEGIN:VCALENDAR
VERSION:2.0
PRODID:-//Schützengilde Diefflen - ECPv4.9.0.3//NONSGML v1.0//EN
CALSCALE:GREGORIAN
METHOD:PUBLISH
X-WR-CALNAME:Schützengilde Diefflen
X-ORIGINAL-URL:https://xn--schtzengilde-diefflen-bic.de
X-WR-CALDESC:Veranstaltungen im Schützengilde Diefflen
BEGIN:VEVENT
DTSTART;TZID=Europe/Berlin:20170429T080000
DTEND;TZID=Europe/Berlin:20170429T170000
DTSTAMP:20260421T095620
CREATED:20170317T213128Z
LAST-MODIFIED:20170317T213128Z
UID:1776-1493452800-1493485200@xn--schtzengilde-diefflen-bic.de
SUMMARY:Freie Pistole (KM)
DESCRIPTION:
URL:https://xn--schtzengilde-diefflen-bic.de/termine/freie-pistole-km/
LOCATION:Schützenverein „Tell“ Schwalbach\, Am Wilhelmschacht 10\, Schwalbach\, Saarland\, 66773\, Deutschland
CATEGORIES:Kreismeisterschaften
END:VEVENT
END:VCALENDAR