BEGIN:VCALENDAR
VERSION:2.0
PRODID:-//Schützengilde Diefflen - ECPv4.9.0.3//NONSGML v1.0//EN
CALSCALE:GREGORIAN
METHOD:PUBLISH
X-WR-CALNAME:Schützengilde Diefflen
X-ORIGINAL-URL:https://xn--schtzengilde-diefflen-bic.de
X-WR-CALDESC:Veranstaltungen im Schützengilde Diefflen
BEGIN:VEVENT
DTSTART;TZID=Europe/Berlin:20170618T080000
DTEND;TZID=Europe/Berlin:20170618T170000
DTSTAMP:20260420T182405
CREATED:20170317T220355Z
LAST-MODIFIED:20170317T220355Z
UID:1867-1497772800-1497805200@xn--schtzengilde-diefflen-bic.de
SUMMARY:Feldbogen (LM)
DESCRIPTION:
URL:https://xn--schtzengilde-diefflen-bic.de/termine/feldbogen-lm/
CATEGORIES:Landesmeisterschaften
END:VEVENT
END:VCALENDAR