BEGIN:VCALENDAR
VERSION:2.0
PRODID:-//Schützengilde Diefflen - ECPv4.9.0.3//NONSGML v1.0//EN
CALSCALE:GREGORIAN
METHOD:PUBLISH
X-WR-CALNAME:Schützengilde Diefflen
X-ORIGINAL-URL:https://xn--schtzengilde-diefflen-bic.de
X-WR-CALDESC:Veranstaltungen im Schützengilde Diefflen
BEGIN:VEVENT
DTSTART;TZID=Europe/Berlin:20170615T080000
DTEND;TZID=Europe/Berlin:20170615T170000
DTSTAMP:20260421T033950
CREATED:20170317T215910Z
LAST-MODIFIED:20170317T215910Z
UID:1855-1497513600-1497546000@xn--schtzengilde-diefflen-bic.de
SUMMARY:Doppeltrap (LM)
DESCRIPTION:
URL:https://xn--schtzengilde-diefflen-bic.de/termine/doppeltrap-lm/
CATEGORIES:Landesmeisterschaften
END:VEVENT
END:VCALENDAR