BEGIN:VCALENDAR
VERSION:2.0
PRODID:-//Schützengilde Diefflen - ECPv4.9.0.3//NONSGML v1.0//EN
CALSCALE:GREGORIAN
METHOD:PUBLISH
X-WR-CALNAME:Schützengilde Diefflen
X-ORIGINAL-URL:https://xn--schtzengilde-diefflen-bic.de
X-WR-CALDESC:Veranstaltungen im Schützengilde Diefflen
BEGIN:VEVENT
DTSTART;TZID=Europe/Berlin:20170825T080000
DTEND;TZID=Europe/Berlin:20170827T170000
DTSTAMP:20260419T191433
CREATED:20170317T221648Z
LAST-MODIFIED:20170317T221648Z
UID:1903-1503648000-1503853200@xn--schtzengilde-diefflen-bic.de
SUMMARY:Bogen WA im Freien
DESCRIPTION:
URL:https://xn--schtzengilde-diefflen-bic.de/termine/bogen-wa-im-freien-2/
END:VEVENT
END:VCALENDAR