BEGIN:VCALENDAR
VERSION:2.0
PRODID:-//Schützengilde Diefflen - ECPv4.9.0.3//NONSGML v1.0//EN
CALSCALE:GREGORIAN
METHOD:PUBLISH
X-WR-CALNAME:Schützengilde Diefflen
X-ORIGINAL-URL:https://xn--schtzengilde-diefflen-bic.de
X-WR-CALDESC:Veranstaltungen im Schützengilde Diefflen
BEGIN:VEVENT
DTSTART;VALUE=DATE:20170916
DTEND;VALUE=DATE:20170917
DTSTAMP:20260419T174044
CREATED:20170318T182421Z
LAST-MODIFIED:20170318T182421Z
UID:1953-1505520000-1505606399@xn--schtzengilde-diefflen-bic.de
SUMMARY:30 Jahr Feier BDS
DESCRIPTION:
URL:https://xn--schtzengilde-diefflen-bic.de/termine/30-jahr-feier-bds/
LOCATION:Überherrn
CATEGORIES:Feier
END:VEVENT
END:VCALENDAR