BEGIN:VCALENDAR
VERSION:2.0
PRODID:-//Schützengilde Diefflen - ECPv4.9.0.3//NONSGML v1.0//EN
CALSCALE:GREGORIAN
METHOD:PUBLISH
X-WR-CALNAME:Schützengilde Diefflen
X-ORIGINAL-URL:http://xn--schtzengilde-diefflen-bic.de
X-WR-CALDESC:Veranstaltungen im Schützengilde Diefflen
BEGIN:VEVENT
DTSTART;TZID=Europe/Berlin:20221230T100000
DTEND;TZID=Europe/Berlin:20221230T170000
DTSTAMP:20260419T201847
CREATED:20230102T133147Z
LAST-MODIFIED:20230102T133147Z
UID:2347-1672394400-1672419600@xn--schtzengilde-diefflen-bic.de
SUMMARY:Seehundschießen 2022
DESCRIPTION:
URL:http://xn--schtzengilde-diefflen-bic.de/termine/seehundschiessen-2022/
LOCATION:Schützenverein Diefflen\, Richard-Wagner-Straße 20 \, Diefflen\, 66763\, Deutschland
END:VEVENT
END:VCALENDAR